BEGIN:VCALENDAR
VERSION:2.0
PRODID:spatie/icalendar-generator
NAME:How Much Are Your Ethics Worth?
X-WR-CALNAME:How Much Are Your Ethics Worth?
BEGIN:VTIMEZONE
TZID:America/New_York
BEGIN:DAYLIGHT
DTSTART:20250309T010000
TZOFFSETFROM:-0500
TZOFFSETTO:-0400
END:DAYLIGHT
BEGIN:STANDARD
DTSTART:20251102T010000
TZOFFSETFROM:-0400
TZOFFSETTO:-0500
END:STANDARD
END:VTIMEZONE
BEGIN:VTIMEZONE
TZID:UTC
BEGIN:STANDARD
DTSTART:20250724T193208
TZOFFSETFROM:+0000
TZOFFSETTO:+0000
END:STANDARD
END:VTIMEZONE
BEGIN:VEVENT
UID:69e67f3850dc4
DTSTAMP:20260420T193208Z
SUMMARY:How Much Are Your Ethics Worth?
LOCATION: 
URL:https://macpa.org/catalog/events/20885584-how-much-are-your-ethics-wort
 h-2025-05-08
DTSTART;TZID=America/New_York:20250805T140000
DTEND;TZID=America/New_York:20250805T160000
END:VEVENT
END:VCALENDAR