BEGIN:VCALENDAR
VERSION:2.0
PRODID:spatie/icalendar-generator
NAME:Yellow Book Update on Government Standards (Overview)
X-WR-CALNAME:Yellow Book Update on Government Standards (Overview)
BEGIN:VTIMEZONE
TZID:America/New_York
BEGIN:STANDARD
DTSTART:20241103T010000
TZOFFSETFROM:-0400
TZOFFSETTO:-0500
END:STANDARD
BEGIN:DAYLIGHT
DTSTART:20250309T010000
TZOFFSETFROM:-0500
TZOFFSETTO:-0400
END:DAYLIGHT
BEGIN:STANDARD
DTSTART:20251102T010000
TZOFFSETFROM:-0400
TZOFFSETTO:-0500
END:STANDARD
END:VTIMEZONE
BEGIN:VTIMEZONE
TZID:UTC
BEGIN:STANDARD
DTSTART:20250727T163316
TZOFFSETFROM:+0000
TZOFFSETTO:+0000
END:STANDARD
END:VTIMEZONE
BEGIN:VEVENT
UID:69ea49ccd3112
DTSTAMP:20260423T163316Z
SUMMARY:Yellow Book Update on Government Standards (Overview)
LOCATION: 
URL:https://macpa.org/catalog/events/20883376-yellow-book-update-on-governm
 ent-standards-overview-2025-16-06
DTSTART;TZID=America/New_York:20250616T080000
DTEND;TZID=America/New_York:20250616T090000
END:VEVENT
END:VCALENDAR