BEGIN:VCALENDAR
VERSION:2.0
PRODID:spatie/icalendar-generator
NAME:Four for Fall: Annual Update for CFOs\, Controllers\, and Finance Mana
 gers: Driving Business Value
X-WR-CALNAME:Four for Fall: Annual Update for CFOs\, Controllers\, and Fina
 nce Managers: Driving Business Value
BEGIN:VTIMEZONE
TZID:America/New_York
BEGIN:DAYLIGHT
DTSTART:20250309T010000
TZOFFSETFROM:-0500
TZOFFSETTO:-0400
END:DAYLIGHT
BEGIN:STANDARD
DTSTART:20251102T010000
TZOFFSETFROM:-0400
TZOFFSETTO:-0500
END:STANDARD
BEGIN:DAYLIGHT
DTSTART:20260308T010000
TZOFFSETFROM:-0500
TZOFFSETTO:-0400
END:DAYLIGHT
END:VTIMEZONE
BEGIN:VTIMEZONE
TZID:UTC
BEGIN:STANDARD
DTSTART:20250727T131120
TZOFFSETFROM:+0000
TZOFFSETTO:+0000
END:STANDARD
END:VTIMEZONE
BEGIN:VEVENT
UID:69ea1a78a685d
DTSTAMP:20260423T131120Z
SUMMARY:Four for Fall: Annual Update for CFOs\, Controllers\, and Finance M
 anagers: Driving Business Value
LOCATION: 
URL:https://macpa.org/catalog/events/20875221-four-for-fall-annual-update-f
 or-cfos-controllers-and-finance-managers-driving-business-value-2025-13-11
DTSTART;TZID=America/New_York:20251113T080000
DTEND;TZID=America/New_York:20251113T113000
END:VEVENT
END:VCALENDAR