BEGIN:VCALENDAR
VERSION:2.0
PRODID:spatie/icalendar-generator
NAME:Four For Fall: Optimizing 1040 Preparation: Key Strategies for Accurac
 y and Efficiency
X-WR-CALNAME:Four For Fall: Optimizing 1040 Preparation: Key Strategies for
  Accuracy and Efficiency
BEGIN:VTIMEZONE
TZID:America/New_York
BEGIN:DAYLIGHT
DTSTART:20250309T010000
TZOFFSETFROM:-0500
TZOFFSETTO:-0400
END:DAYLIGHT
BEGIN:STANDARD
DTSTART:20251102T010000
TZOFFSETFROM:-0400
TZOFFSETTO:-0500
END:STANDARD
BEGIN:DAYLIGHT
DTSTART:20260308T010000
TZOFFSETFROM:-0500
TZOFFSETTO:-0400
END:DAYLIGHT
END:VTIMEZONE
BEGIN:VTIMEZONE
TZID:UTC
BEGIN:STANDARD
DTSTART:20250727T131414
TZOFFSETFROM:+0000
TZOFFSETTO:+0000
END:STANDARD
END:VTIMEZONE
BEGIN:VEVENT
UID:69ea1b2631d9f
DTSTAMP:20260423T131414Z
SUMMARY:Four For Fall: Optimizing 1040 Preparation: Key Strategies for Accu
 racy and Efficiency
LOCATION: 
URL:https://macpa.org/catalog/events/20874873-four-for-fall-optimizing-1040
 -preparation-key-strategies-for-accuracy-and-efficiency-2025-13-11
DTSTART;TZID=America/New_York:20251113T120000
DTEND;TZID=America/New_York:20251113T153000
END:VEVENT
END:VCALENDAR