BEGIN:VCALENDAR
VERSION:2.0
PRODID:spatie/icalendar-generator
NAME:Ethical AI Practices for CPAs: Ensuring Responsible Use (Navigating th
 e AI Frontier Series)
X-WR-CALNAME:Ethical AI Practices for CPAs: Ensuring Responsible Use (Navig
 ating the AI Frontier Series)
BEGIN:VTIMEZONE
TZID:America/New_York
BEGIN:STANDARD
DTSTART:20251102T010000
TZOFFSETFROM:-0400
TZOFFSETTO:-0500
END:STANDARD
BEGIN:DAYLIGHT
DTSTART:20260308T010000
TZOFFSETFROM:-0500
TZOFFSETTO:-0400
END:DAYLIGHT
END:VTIMEZONE
BEGIN:VTIMEZONE
TZID:UTC
BEGIN:STANDARD
DTSTART:20250724T164654
TZOFFSETFROM:+0000
TZOFFSETTO:+0000
END:STANDARD
END:VTIMEZONE
BEGIN:VEVENT
UID:69e6587e4827f
DTSTAMP:20260420T164654Z
SUMMARY:Ethical AI Practices for CPAs: Ensuring Responsible Use (Navigating
  the AI Frontier Series)
LOCATION: 
URL:https://macpa.org/catalog/events/20871687-ethical-ai-practices-for-cpas
 -ensuring-responsible-use-navigating-the-ai-frontier-series-2025-19-12
DTSTART;TZID=America/New_York:20251219T100000
DTEND;TZID=America/New_York:20251219T114000
END:VEVENT
END:VCALENDAR