BEGIN:VCALENDAR
VERSION:2.0
PRODID:spatie/icalendar-generator
NAME:Four For Fall: Employment Taxes
X-WR-CALNAME:Four For Fall: Employment Taxes
BEGIN:VTIMEZONE
TZID:America/New_York
BEGIN:DAYLIGHT
DTSTART:20250309T010000
TZOFFSETFROM:-0500
TZOFFSETTO:-0400
END:DAYLIGHT
BEGIN:STANDARD
DTSTART:20251102T010000
TZOFFSETFROM:-0400
TZOFFSETTO:-0500
END:STANDARD
BEGIN:DAYLIGHT
DTSTART:20260308T010000
TZOFFSETFROM:-0500
TZOFFSETTO:-0400
END:DAYLIGHT
END:VTIMEZONE
BEGIN:VTIMEZONE
TZID:UTC
BEGIN:STANDARD
DTSTART:20250727T132049
TZOFFSETFROM:+0000
TZOFFSETTO:+0000
END:STANDARD
END:VTIMEZONE
BEGIN:VEVENT
UID:69ea1cb1b058c
DTSTAMP:20260423T132049Z
SUMMARY:Four For Fall: Employment Taxes
LOCATION: 
URL:https://macpa.org/catalog/events/20870332-four-for-fall-employment-taxe
 s-2025-13-11
DTSTART;TZID=America/New_York:20251113T080000
DTEND;TZID=America/New_York:20251113T233000
END:VEVENT
END:VCALENDAR