BEGIN:VCALENDAR
VERSION:2.0
PRODID:spatie/icalendar-generator
NAME:CFO Series:Corporate Performance Management (in collaboration with FIC
 PA)
X-WR-CALNAME:CFO Series:Corporate Performance Management (in collaboration 
 with FICPA)
BEGIN:VTIMEZONE
TZID:America/New_York
BEGIN:STANDARD
DTSTART:20241103T010000
TZOFFSETFROM:-0400
TZOFFSETTO:-0500
END:STANDARD
BEGIN:DAYLIGHT
DTSTART:20250309T010000
TZOFFSETFROM:-0500
TZOFFSETTO:-0400
END:DAYLIGHT
BEGIN:STANDARD
DTSTART:20251102T010000
TZOFFSETFROM:-0400
TZOFFSETTO:-0500
END:STANDARD
END:VTIMEZONE
BEGIN:VTIMEZONE
TZID:UTC
BEGIN:STANDARD
DTSTART:20250727T110125
TZOFFSETFROM:+0000
TZOFFSETTO:+0000
END:STANDARD
END:VTIMEZONE
BEGIN:VEVENT
UID:69e9fc05e3fe0
DTSTAMP:20260423T110125Z
SUMMARY:CFO Series:Corporate Performance Management (in collaboration with 
 FICPA)
LOCATION: 
URL:https://macpa.org/catalog/events/20870258-cfo-seriescorporate-performan
 ce-management-in-collaboration-with-ficpa-2025-25-06
DTSTART;TZID=America/New_York:20250625T083000
DTEND;TZID=America/New_York:20250625T160000
END:VEVENT
END:VCALENDAR