BEGIN:VCALENDAR
VERSION:2.0
PRODID:spatie/icalendar-generator
NAME:CFO Series: Doing the Right Things Right (in collaboration with FICPA)
X-WR-CALNAME:CFO Series: Doing the Right Things Right (in collaboration wit
 h FICPA)
BEGIN:VTIMEZONE
TZID:America/New_York
BEGIN:STANDARD
DTSTART:20241103T010000
TZOFFSETFROM:-0400
TZOFFSETTO:-0500
END:STANDARD
BEGIN:DAYLIGHT
DTSTART:20250309T010000
TZOFFSETFROM:-0500
TZOFFSETTO:-0400
END:DAYLIGHT
END:VTIMEZONE
BEGIN:VTIMEZONE
TZID:UTC
BEGIN:STANDARD
DTSTART:20250727T111015
TZOFFSETFROM:+0000
TZOFFSETTO:+0000
END:STANDARD
END:VTIMEZONE
BEGIN:VEVENT
UID:69e9fe1728f96
DTSTAMP:20260423T111015Z
SUMMARY:CFO Series: Doing the Right Things Right (in collaboration with FIC
 PA)
LOCATION: 
URL:https://macpa.org/catalog/events/20860458-cfo-series-doing-the-right-th
 ings-right-in-collaboration-with-ficpa-2025-16-04
DTSTART;TZID=America/New_York:20250416T083000
DTEND;TZID=America/New_York:20250416T160000
END:VEVENT
END:VCALENDAR