BEGIN:VCALENDAR
VERSION:2.0
PRODID:spatie/icalendar-generator
NAME:AI Foundations Live - Exclusive Event
X-WR-CALNAME:AI Foundations Live - Exclusive Event
BEGIN:VTIMEZONE
TZID:America/New_York
BEGIN:STANDARD
DTSTART:20241103T010000
TZOFFSETFROM:-0400
TZOFFSETTO:-0500
END:STANDARD
BEGIN:DAYLIGHT
DTSTART:20250309T010000
TZOFFSETFROM:-0500
TZOFFSETTO:-0400
END:DAYLIGHT
END:VTIMEZONE
BEGIN:VTIMEZONE
TZID:UTC
BEGIN:STANDARD
DTSTART:20250726T212445
TZOFFSETFROM:+0000
TZOFFSETTO:+0000
END:STANDARD
END:VTIMEZONE
BEGIN:VEVENT
UID:69e93c9d4eaa7
DTSTAMP:20260422T212445Z
SUMMARY:AI Foundations Live - Exclusive Event
LOCATION:692 Maritime Boulevard\, Linthicum Heights\, Anne Arundel County\,
   21090-1952
URL:https://macpa.org/catalog/events/20852526-ai-foundations-live-exclusive
 -event-2025-29-04
DTSTART;TZID=America/New_York:20250429T080000
DTEND;TZID=America/New_York:20250429T120000
GEO:39.212791;-76.671908
X-APPLE-STRUCTURED-LOCATION;VALUE=URI;X-ADDRESS=692 Maritime Boulevard\, Li
 nthicum Heights\, Anne Arundel County\,  21090-1952;X-APPLE-RADIUS=72;X-TI
 TLE=Maritime Conference Center:geo:39.212791,-76.671908
END:VEVENT
END:VCALENDAR