BEGIN:VCALENDAR
VERSION:2.0
PRODID:spatie/icalendar-generator
NAME:Keeping Up with the Tax Code – Quarterly Federal Tax Update for Busi
 nesses
X-WR-CALNAME:Keeping Up with the Tax Code – Quarterly Federal Tax Update 
 for Businesses
BEGIN:VTIMEZONE
TZID:America/New_York
BEGIN:DAYLIGHT
DTSTART:20250309T010000
TZOFFSETFROM:-0500
TZOFFSETTO:-0400
END:DAYLIGHT
BEGIN:STANDARD
DTSTART:20251102T010000
TZOFFSETFROM:-0400
TZOFFSETTO:-0500
END:STANDARD
BEGIN:DAYLIGHT
DTSTART:20260308T010000
TZOFFSETFROM:-0500
TZOFFSETTO:-0400
END:DAYLIGHT
END:VTIMEZONE
BEGIN:VTIMEZONE
TZID:UTC
BEGIN:STANDARD
DTSTART:20250726T212608
TZOFFSETFROM:+0000
TZOFFSETTO:+0000
END:STANDARD
END:VTIMEZONE
BEGIN:VEVENT
UID:69e93cf0bceaf
DTSTAMP:20260422T212608Z
SUMMARY:Keeping Up with the Tax Code – Quarterly Federal Tax Update for B
 usinesses
LOCATION: 
URL:https://macpa.org/catalog/events/20852154-keeping-up-with-the-tax-code-
 quarterly-federal-tax-update-for-businesses-2025-25-09
DTSTART;TZID=America/New_York:20250925T130000
DTEND;TZID=America/New_York:20250925T163000
END:VEVENT
END:VCALENDAR