BEGIN:VCALENDAR
VERSION:2.0
PRODID:spatie/icalendar-generator
NAME:Keeping Up with the Tax Code – Quarterly Federal Tax Update for Indi
 viduals
X-WR-CALNAME:Keeping Up with the Tax Code – Quarterly Federal Tax Update 
 for Individuals
BEGIN:VTIMEZONE
TZID:America/New_York
BEGIN:STANDARD
DTSTART:20241103T010000
TZOFFSETFROM:-0400
TZOFFSETTO:-0500
END:STANDARD
BEGIN:DAYLIGHT
DTSTART:20250309T010000
TZOFFSETFROM:-0500
TZOFFSETTO:-0400
END:DAYLIGHT
BEGIN:STANDARD
DTSTART:20251102T010000
TZOFFSETFROM:-0400
TZOFFSETTO:-0500
END:STANDARD
END:VTIMEZONE
BEGIN:VTIMEZONE
TZID:UTC
BEGIN:STANDARD
DTSTART:20250725T225919
TZOFFSETFROM:+0000
TZOFFSETTO:+0000
END:STANDARD
END:VTIMEZONE
BEGIN:VEVENT
UID:69e80147bfb09
DTSTAMP:20260421T225919Z
SUMMARY:Keeping Up with the Tax Code – Quarterly Federal Tax Update for I
 ndividuals
LOCATION: 
URL:https://macpa.org/catalog/events/20850724-keeping-up-with-the-tax-code-
 quarterly-federal-tax-update-for-individuals-2025-24-07
DTSTART;TZID=America/New_York:20250724T130000
DTEND;TZID=America/New_York:20250724T163000
END:VEVENT
END:VCALENDAR