BEGIN:VCALENDAR
VERSION:2.0
PRODID:spatie/icalendar-generator
NAME:Quarterly Practice & Regulatory Update for Financial Advisors
X-WR-CALNAME:Quarterly Practice & Regulatory Update for Financial Advisors
BEGIN:VTIMEZONE
TZID:America/New_York
BEGIN:STANDARD
DTSTART:20241103T010000
TZOFFSETFROM:-0400
TZOFFSETTO:-0500
END:STANDARD
BEGIN:DAYLIGHT
DTSTART:20250309T010000
TZOFFSETFROM:-0500
TZOFFSETTO:-0400
END:DAYLIGHT
BEGIN:STANDARD
DTSTART:20251102T010000
TZOFFSETFROM:-0400
TZOFFSETTO:-0500
END:STANDARD
END:VTIMEZONE
BEGIN:VTIMEZONE
TZID:UTC
BEGIN:STANDARD
DTSTART:20250726T222953
TZOFFSETFROM:+0000
TZOFFSETTO:+0000
END:STANDARD
END:VTIMEZONE
BEGIN:VEVENT
UID:69e94be1440a8
DTSTAMP:20260422T222953Z
SUMMARY:Quarterly Practice & Regulatory Update for Financial Advisors
LOCATION: 
URL:https://macpa.org/catalog/events/20850655-quarterly-practice-regulatory
 -update-for-financial-advisors-2025-22-05
DTSTART;TZID=America/New_York:20250522T130000
DTEND;TZID=America/New_York:20250522T163000
END:VEVENT
END:VCALENDAR