BEGIN:VCALENDAR
VERSION:2.0
PRODID:spatie/icalendar-generator
NAME:40th Annual Personal Financial Planning Conference
X-WR-CALNAME:40th Annual Personal Financial Planning Conference
BEGIN:VTIMEZONE
TZID:America/New_York
BEGIN:DAYLIGHT
DTSTART:20250309T010000
TZOFFSETFROM:-0500
TZOFFSETTO:-0400
END:DAYLIGHT
BEGIN:STANDARD
DTSTART:20251102T010000
TZOFFSETFROM:-0400
TZOFFSETTO:-0500
END:STANDARD
BEGIN:DAYLIGHT
DTSTART:20260308T010000
TZOFFSETFROM:-0500
TZOFFSETTO:-0400
END:DAYLIGHT
END:VTIMEZONE
BEGIN:VTIMEZONE
TZID:UTC
BEGIN:STANDARD
DTSTART:20250726T162303
TZOFFSETFROM:+0000
TZOFFSETTO:+0000
END:STANDARD
END:VTIMEZONE
BEGIN:VEVENT
UID:69e8f5e7e6e82
DTSTAMP:20260422T162303Z
SUMMARY:40th Annual Personal Financial Planning Conference
LOCATION:910 Ridgebrook Rd\, Sparks Glencoe\, Baltimore County\, Maryland 2
 1152-9390
URL:https://macpa.org/catalog/events/20841431-40th-annual-personal-financia
 l-planning-conference-2025-28-10
DTSTART;TZID=America/New_York:20251028T080000
DTEND;TZID=America/New_York:20251028T163000
GEO:39.524942;-76.655773
X-APPLE-STRUCTURED-LOCATION;VALUE=URI;X-ADDRESS=910 Ridgebrook Rd\, Sparks 
 Glencoe\, Baltimore County\, Maryland 21152-9390;X-APPLE-RADIUS=72;X-TITLE
 =SC&H - Sparks:geo:39.524942,-76.655773
END:VEVENT
END:VCALENDAR