BEGIN:VCALENDAR
VERSION:2.0
PRODID:spatie/icalendar-generator
NAME:A Culture of Regulatory Ethics – Making Ethics a Competitive Advanta
 ge
X-WR-CALNAME:A Culture of Regulatory Ethics – Making Ethics a Competitive
  Advantage
BEGIN:VTIMEZONE
TZID:America/New_York
BEGIN:STANDARD
DTSTART:20251102T010000
TZOFFSETFROM:-0400
TZOFFSETTO:-0500
END:STANDARD
BEGIN:DAYLIGHT
DTSTART:20260308T010000
TZOFFSETFROM:-0500
TZOFFSETTO:-0400
END:DAYLIGHT
END:VTIMEZONE
BEGIN:VTIMEZONE
TZID:UTC
BEGIN:STANDARD
DTSTART:20250726T181850
TZOFFSETFROM:+0000
TZOFFSETTO:+0000
END:STANDARD
END:VTIMEZONE
BEGIN:VEVENT
UID:69e9110a1eadf
DTSTAMP:20260422T181850Z
SUMMARY:A Culture of Regulatory Ethics – Making Ethics a Competitive Adva
 ntage
LOCATION: 
URL:https://macpa.org/catalog/events/20840530-a-culture-of-regulatory-ethic
 s-making-ethics-a-competitive-advantage-2025-04-12
DTSTART;TZID=America/New_York:20251204T090000
DTEND;TZID=America/New_York:20251204T125000
END:VEVENT
END:VCALENDAR