BEGIN:VCALENDAR
VERSION:2.0
PRODID:spatie/icalendar-generator
NAME:CPA Summit - Meeting Client Deadlines and Managing Continuous FinCEN F
 ilings
X-WR-CALNAME:CPA Summit - Meeting Client Deadlines and Managing Continuous 
 FinCEN Filings
BEGIN:VTIMEZONE
TZID:America/New_York
BEGIN:STANDARD
DTSTART:20241103T010000
TZOFFSETFROM:-0400
TZOFFSETTO:-0500
END:STANDARD
BEGIN:DAYLIGHT
DTSTART:20250309T010000
TZOFFSETFROM:-0500
TZOFFSETTO:-0400
END:DAYLIGHT
END:VTIMEZONE
BEGIN:VTIMEZONE
TZID:UTC
BEGIN:STANDARD
DTSTART:20250727T180709
TZOFFSETFROM:+0000
TZOFFSETTO:+0000
END:STANDARD
END:VTIMEZONE
BEGIN:VEVENT
UID:69ea5fcd879c0
DTSTAMP:20260423T180709Z
SUMMARY:CPA Summit - Meeting Client Deadlines and Managing Continuous FinCE
 N Filings
LOCATION: 
URL:https://macpa.org/catalog/events/20792610-cpa-summit-meeting-client-dea
 dlines-and-managing-continuous-fincen-filings-2025-30-01
DTSTART;TZID=America/New_York:20250130T100000
DTEND;TZID=America/New_York:20250130T105000
END:VEVENT
END:VCALENDAR