BEGIN:VCALENDAR
VERSION:2.0
PRODID:spatie/icalendar-generator
NAME:CPA Summit - What are Family Office Services?
X-WR-CALNAME:CPA Summit - What are Family Office Services?
BEGIN:VTIMEZONE
TZID:America/New_York
BEGIN:STANDARD
DTSTART:20241103T010000
TZOFFSETFROM:-0400
TZOFFSETTO:-0500
END:STANDARD
BEGIN:DAYLIGHT
DTSTART:20250309T010000
TZOFFSETFROM:-0500
TZOFFSETTO:-0400
END:DAYLIGHT
END:VTIMEZONE
BEGIN:VTIMEZONE
TZID:UTC
BEGIN:STANDARD
DTSTART:20250727T180744
TZOFFSETFROM:+0000
TZOFFSETTO:+0000
END:STANDARD
END:VTIMEZONE
BEGIN:VEVENT
UID:69ea5ff0849f3
DTSTAMP:20260423T180744Z
SUMMARY:CPA Summit - What are Family Office Services?
LOCATION: 
URL:https://macpa.org/catalog/events/20792605-cpa-summit-what-are-family-of
 fice-services-2025-30-01
DTSTART;TZID=America/New_York:20250130T090000
DTEND;TZID=America/New_York:20250130T215000
END:VEVENT
END:VCALENDAR