BEGIN:VCALENDAR
VERSION:2.0
PRODID:spatie/icalendar-generator
NAME:CPA Summit - Cybersecurity for CPAs: Master FTC Safeguards & Protect Y
 our Business\, Your Employees\, Your Clients and Your Reputation in 2025
X-WR-CALNAME:CPA Summit - Cybersecurity for CPAs: Master FTC Safeguards & P
 rotect Your Business\, Your Employees\, Your Clients and Your Reputation i
 n 2025
BEGIN:VTIMEZONE
TZID:America/New_York
BEGIN:STANDARD
DTSTART:20241103T010000
TZOFFSETFROM:-0400
TZOFFSETTO:-0500
END:STANDARD
BEGIN:DAYLIGHT
DTSTART:20250309T010000
TZOFFSETFROM:-0500
TZOFFSETTO:-0400
END:DAYLIGHT
END:VTIMEZONE
BEGIN:VTIMEZONE
TZID:UTC
BEGIN:STANDARD
DTSTART:20250727T180550
TZOFFSETFROM:+0000
TZOFFSETTO:+0000
END:STANDARD
END:VTIMEZONE
BEGIN:VEVENT
UID:69ea5f7ed95ab
DTSTAMP:20260423T180550Z
SUMMARY:CPA Summit - Cybersecurity for CPAs: Master FTC Safeguards & Protec
 t Your Business\, Your Employees\, Your Clients and Your Reputation in 202
 5
LOCATION: 
URL:https://macpa.org/catalog/events/20792595-cpa-summit-cybersecurity-for-
 cpas-master-ftc-safeguards-protect-your-business-your-employees-your-clien
 ts-and-your-reputation-in-2025-2025-29-01
DTSTART;TZID=America/New_York:20250129T110000
DTEND;TZID=America/New_York:20250129T235000
END:VEVENT
END:VCALENDAR