BEGIN:VCALENDAR
VERSION:2.0
PRODID:spatie/icalendar-generator
NAME:CPA Summit - Attract New Clients\, Grow Your Practice and Increase Ser
 vice Offerings - Cost Segregation Studies and Research & Development Tax C
 redits
X-WR-CALNAME:CPA Summit - Attract New Clients\, Grow Your Practice and Incr
 ease Service Offerings - Cost Segregation Studies and Research & Developme
 nt Tax Credits
BEGIN:VTIMEZONE
TZID:America/New_York
BEGIN:STANDARD
DTSTART:20241103T010000
TZOFFSETFROM:-0400
TZOFFSETTO:-0500
END:STANDARD
BEGIN:DAYLIGHT
DTSTART:20250309T010000
TZOFFSETFROM:-0500
TZOFFSETTO:-0400
END:DAYLIGHT
END:VTIMEZONE
BEGIN:VTIMEZONE
TZID:UTC
BEGIN:STANDARD
DTSTART:20250727T180327
TZOFFSETFROM:+0000
TZOFFSETTO:+0000
END:STANDARD
END:VTIMEZONE
BEGIN:VEVENT
UID:69ea5eef9d062
DTSTAMP:20260423T180327Z
SUMMARY:CPA Summit - Attract New Clients\, Grow Your Practice and Increase 
 Service Offerings - Cost Segregation Studies and Research & Development Ta
 x Credits
LOCATION: 
URL:https://macpa.org/catalog/events/20792590-cpa-summit-attract-new-client
 s-grow-your-practice-and-increase-service-offerings-cost-segregation-studi
 es-and-research-development-tax-credits-2025-29-01
DTSTART;TZID=America/New_York:20250129T100000
DTEND;TZID=America/New_York:20250129T225000
END:VEVENT
END:VCALENDAR