BEGIN:VCALENDAR
VERSION:2.0
PRODID:spatie/icalendar-generator
NAME:CPA Summit - Spend vs Expense Management: Automating Workflows to Elev
 ate Your Advisory Services
X-WR-CALNAME:CPA Summit - Spend vs Expense Management: Automating Workflows
  to Elevate Your Advisory Services
BEGIN:VTIMEZONE
TZID:America/New_York
BEGIN:STANDARD
DTSTART:20241103T010000
TZOFFSETFROM:-0400
TZOFFSETTO:-0500
END:STANDARD
BEGIN:DAYLIGHT
DTSTART:20250309T010000
TZOFFSETFROM:-0500
TZOFFSETTO:-0400
END:DAYLIGHT
END:VTIMEZONE
BEGIN:VTIMEZONE
TZID:UTC
BEGIN:STANDARD
DTSTART:20250727T180623
TZOFFSETFROM:+0000
TZOFFSETTO:+0000
END:STANDARD
END:VTIMEZONE
BEGIN:VEVENT
UID:69ea5f9ff3263
DTSTAMP:20260423T180623Z
SUMMARY:CPA Summit - Spend vs Expense Management: Automating Workflows to E
 levate Your Advisory Services
LOCATION: 
URL:https://macpa.org/catalog/events/20792581-cpa-summit-spend-vs-expense-m
 anagement-automating-workflows-to-elevate-your-advisory-services-2025-28-0
 1
DTSTART;TZID=America/New_York:20250128T120000
DTEND;TZID=America/New_York:20250128T125000
END:VEVENT
END:VCALENDAR