BEGIN:VCALENDAR
VERSION:2.0
PRODID:spatie/icalendar-generator
NAME:CPA Summit - Unlocking Insights through People Analytics
X-WR-CALNAME:CPA Summit - Unlocking Insights through People Analytics
BEGIN:VTIMEZONE
TZID:America/New_York
BEGIN:STANDARD
DTSTART:20241103T010000
TZOFFSETFROM:-0400
TZOFFSETTO:-0500
END:STANDARD
BEGIN:DAYLIGHT
DTSTART:20250309T010000
TZOFFSETFROM:-0500
TZOFFSETTO:-0400
END:DAYLIGHT
END:VTIMEZONE
BEGIN:VTIMEZONE
TZID:UTC
BEGIN:STANDARD
DTSTART:20250727T180557
TZOFFSETFROM:+0000
TZOFFSETTO:+0000
END:STANDARD
END:VTIMEZONE
BEGIN:VEVENT
UID:69ea5f8565968
DTSTAMP:20260423T180557Z
SUMMARY:CPA Summit - Unlocking Insights through People Analytics
LOCATION: 
URL:https://macpa.org/catalog/events/20792573-cpa-summit-unlocking-insights
 -through-people-analytics-2025-28-01
DTSTART;TZID=America/New_York:20250128T100000
DTEND;TZID=America/New_York:20250128T105000
END:VEVENT
END:VCALENDAR