BEGIN:VCALENDAR
VERSION:2.0
PRODID:spatie/icalendar-generator
NAME:AI Impact
X-WR-CALNAME:AI Impact
BEGIN:VTIMEZONE
TZID:America/New_York
BEGIN:STANDARD
DTSTART:20241103T010000
TZOFFSETFROM:-0400
TZOFFSETTO:-0500
END:STANDARD
BEGIN:DAYLIGHT
DTSTART:20250309T010000
TZOFFSETFROM:-0500
TZOFFSETTO:-0400
END:DAYLIGHT
END:VTIMEZONE
BEGIN:VTIMEZONE
TZID:UTC
BEGIN:STANDARD
DTSTART:20250724T085740
TZOFFSETFROM:+0000
TZOFFSETTO:+0000
END:STANDARD
END:VTIMEZONE
BEGIN:VEVENT
UID:69e5ea84e6f6f
DTSTAMP:20260420T085740Z
SUMMARY:AI Impact
LOCATION: 
URL:https://macpa.org/catalog/events/20750555-ai-impact-2025-06-02
DTSTART;TZID=America/New_York:20250206T130000
DTEND;TZID=America/New_York:20250220T143000
END:VEVENT
END:VCALENDAR