BEGIN:VCALENDAR
VERSION:2.0
PRODID:spatie/icalendar-generator
NAME:Don Farmer’s 2024 Corporate/Business Income Tax Workshop (Rebroadcas
 t)
X-WR-CALNAME:Don Farmer’s 2024 Corporate/Business Income Tax Workshop (Re
 broadcast)
BEGIN:VTIMEZONE
TZID:America/New_York
BEGIN:STANDARD
DTSTART:20241103T010000
TZOFFSETFROM:-0400
TZOFFSETTO:-0500
END:STANDARD
BEGIN:DAYLIGHT
DTSTART:20250309T010000
TZOFFSETFROM:-0500
TZOFFSETTO:-0400
END:DAYLIGHT
END:VTIMEZONE
BEGIN:VTIMEZONE
TZID:UTC
BEGIN:STANDARD
DTSTART:20250727T150324
TZOFFSETFROM:+0000
TZOFFSETTO:+0000
END:STANDARD
END:VTIMEZONE
BEGIN:VEVENT
UID:69ea34bc6388f
DTSTAMP:20260423T150324Z
SUMMARY:Don Farmer’s 2024 Corporate/Business Income Tax Workshop (Rebroad
 cast)
LOCATION: 
URL:https://macpa.org/catalog/events/20734752-don-farmers-2024-corporatebus
 iness-income-tax-workshop-rebroadcast-2024-19-12
DTSTART;TZID=America/New_York:20241219T080000
DTEND;TZID=America/New_York:20241219T154000
END:VEVENT
END:VCALENDAR