BEGIN:VCALENDAR
VERSION:2.0
PRODID:spatie/icalendar-generator
NAME:CFO Series: Enterprise Risk Management Implementation Keys
X-WR-CALNAME:CFO Series: Enterprise Risk Management Implementation Keys
BEGIN:VTIMEZONE
TZID:America/New_York
BEGIN:STANDARD
DTSTART:20241103T010000
TZOFFSETFROM:-0400
TZOFFSETTO:-0500
END:STANDARD
BEGIN:DAYLIGHT
DTSTART:20250309T010000
TZOFFSETFROM:-0500
TZOFFSETTO:-0400
END:DAYLIGHT
BEGIN:STANDARD
DTSTART:20251102T010000
TZOFFSETFROM:-0400
TZOFFSETTO:-0500
END:STANDARD
END:VTIMEZONE
BEGIN:VTIMEZONE
TZID:UTC
BEGIN:STANDARD
DTSTART:20250727T105356
TZOFFSETFROM:+0000
TZOFFSETTO:+0000
END:STANDARD
END:VTIMEZONE
BEGIN:VEVENT
UID:69e9fa44670b2
DTSTAMP:20260423T105356Z
SUMMARY:CFO Series: Enterprise Risk Management Implementation Keys
LOCATION: 
URL:https://macpa.org/catalog/events/20717639-cfo-series-enterprise-risk-ma
 nagement-implementation-keys-2025-20-06
DTSTART;TZID=America/New_York:20250620T110000
DTEND;TZID=America/New_York:20250620T130000
END:VEVENT
END:VCALENDAR