BEGIN:VCALENDAR
VERSION:2.0
PRODID:spatie/icalendar-generator
NAME:CFO Series: SALT for CFOs: What You Don't Know & Should Know
X-WR-CALNAME:CFO Series: SALT for CFOs: What You Don't Know & Should Know
BEGIN:VTIMEZONE
TZID:America/New_York
BEGIN:STANDARD
DTSTART:20241103T010000
TZOFFSETFROM:-0400
TZOFFSETTO:-0500
END:STANDARD
BEGIN:DAYLIGHT
DTSTART:20250309T010000
TZOFFSETFROM:-0500
TZOFFSETTO:-0400
END:DAYLIGHT
BEGIN:STANDARD
DTSTART:20251102T010000
TZOFFSETFROM:-0400
TZOFFSETTO:-0500
END:STANDARD
END:VTIMEZONE
BEGIN:VTIMEZONE
TZID:UTC
BEGIN:STANDARD
DTSTART:20250727T105347
TZOFFSETFROM:+0000
TZOFFSETTO:+0000
END:STANDARD
END:VTIMEZONE
BEGIN:VEVENT
UID:69e9fa3b2eb29
DTSTAMP:20260423T105347Z
SUMMARY:CFO Series: SALT for CFOs: What You Don't Know & Should Know
LOCATION: 
URL:https://macpa.org/catalog/events/20717634-cfo-series-salt-for-cfos-what
 -you-dont-know-should-know-2025-06-06
DTSTART;TZID=America/New_York:20250606T110000
DTEND;TZID=America/New_York:20250606T130000
END:VEVENT
END:VCALENDAR