BEGIN:VCALENDAR
VERSION:2.0
PRODID:spatie/icalendar-generator
NAME:Cryptocurrency 15 Years Later - A Market Update
X-WR-CALNAME:Cryptocurrency 15 Years Later - A Market Update
BEGIN:VTIMEZONE
TZID:America/New_York
BEGIN:STANDARD
DTSTART:20241103T010000
TZOFFSETFROM:-0400
TZOFFSETTO:-0500
END:STANDARD
BEGIN:DAYLIGHT
DTSTART:20250309T010000
TZOFFSETFROM:-0500
TZOFFSETTO:-0400
END:DAYLIGHT
END:VTIMEZONE
BEGIN:VTIMEZONE
TZID:UTC
BEGIN:STANDARD
DTSTART:20250723T163021
TZOFFSETFROM:+0000
TZOFFSETTO:+0000
END:STANDARD
END:VTIMEZONE
BEGIN:VEVENT
UID:69e5031d37461
DTSTAMP:20260419T163021Z
SUMMARY:Cryptocurrency 15 Years Later - A Market Update
LOCATION: 
URL:https://macpa.org/catalog/events/20717569-cryptocurrency-15-years-later
 -a-market-update-2025-21-04
DTSTART;TZID=America/New_York:20250421T150000
DTEND;TZID=America/New_York:20250421T160000
END:VEVENT
END:VCALENDAR