BEGIN:VCALENDAR
VERSION:2.0
PRODID:spatie/icalendar-generator
NAME:CFO Series: Beyond the Boardroom Best Governance Practices
X-WR-CALNAME:CFO Series: Beyond the Boardroom Best Governance Practices
BEGIN:VTIMEZONE
TZID:America/New_York
BEGIN:STANDARD
DTSTART:20241103T010000
TZOFFSETFROM:-0400
TZOFFSETTO:-0500
END:STANDARD
BEGIN:DAYLIGHT
DTSTART:20250309T010000
TZOFFSETFROM:-0500
TZOFFSETTO:-0400
END:DAYLIGHT
END:VTIMEZONE
BEGIN:VTIMEZONE
TZID:UTC
BEGIN:STANDARD
DTSTART:20250727T105950
TZOFFSETFROM:+0000
TZOFFSETTO:+0000
END:STANDARD
END:VTIMEZONE
BEGIN:VEVENT
UID:69e9fba667c45
DTSTAMP:20260423T105950Z
SUMMARY:CFO Series: Beyond the Boardroom Best Governance Practices
LOCATION: 
URL:https://macpa.org/catalog/events/20717549-cfo-series-beyond-the-boardro
 om-best-governance-practices-2025-18-04
DTSTART;TZID=America/New_York:20250418T110000
DTEND;TZID=America/New_York:20250418T130000
END:VEVENT
END:VCALENDAR