BEGIN:VCALENDAR
VERSION:2.0
PRODID:spatie/icalendar-generator
NAME:Ethics: What a CPA in Business & Industry Needs to Know
X-WR-CALNAME:Ethics: What a CPA in Business & Industry Needs to Know
BEGIN:VTIMEZONE
TZID:America/New_York
BEGIN:STANDARD
DTSTART:20241103T010000
TZOFFSETFROM:-0400
TZOFFSETTO:-0500
END:STANDARD
BEGIN:DAYLIGHT
DTSTART:20250309T010000
TZOFFSETFROM:-0500
TZOFFSETTO:-0400
END:DAYLIGHT
END:VTIMEZONE
BEGIN:VTIMEZONE
TZID:UTC
BEGIN:STANDARD
DTSTART:20250728T142827
TZOFFSETFROM:+0000
TZOFFSETTO:+0000
END:STANDARD
END:VTIMEZONE
BEGIN:VEVENT
UID:69eb7e0b7b42a
DTSTAMP:20260424T142827Z
SUMMARY:Ethics: What a CPA in Business & Industry Needs to Know
LOCATION: 
URL:https://macpa.org/catalog/events/20717428-ethics-what-a-cpa-in-business
 -industry-needs-to-know-2025-31-03
DTSTART;TZID=America/New_York:20250331T093000
DTEND;TZID=America/New_York:20250331T113000
END:VEVENT
END:VCALENDAR