BEGIN:VCALENDAR
VERSION:2.0
PRODID:spatie/icalendar-generator
NAME:Money Laundering 101 for CPAs
X-WR-CALNAME:Money Laundering 101 for CPAs
BEGIN:VTIMEZONE
TZID:America/New_York
BEGIN:STANDARD
DTSTART:20241103T010000
TZOFFSETFROM:-0400
TZOFFSETTO:-0500
END:STANDARD
BEGIN:DAYLIGHT
DTSTART:20250309T010000
TZOFFSETFROM:-0500
TZOFFSETTO:-0400
END:DAYLIGHT
END:VTIMEZONE
BEGIN:VTIMEZONE
TZID:UTC
BEGIN:STANDARD
DTSTART:20250723T192919
TZOFFSETFROM:+0000
TZOFFSETTO:+0000
END:STANDARD
END:VTIMEZONE
BEGIN:VEVENT
UID:69e52d0f51760
DTSTAMP:20260419T192919Z
SUMMARY:Money Laundering 101 for CPAs
LOCATION: 
URL:https://macpa.org/catalog/events/20717403-money-laundering-101-for-cpas
 -2025-26-03
DTSTART;TZID=America/New_York:20250326T123000
DTEND;TZID=America/New_York:20250326T163000
END:VEVENT
END:VCALENDAR