BEGIN:VCALENDAR
VERSION:2.0
PRODID:spatie/icalendar-generator
NAME:\"Best of\" 2024 (55th Annual) Chesapeake Tax Conference
X-WR-CALNAME:\"Best of\" 2024 (55th Annual) Chesapeake Tax Conference
BEGIN:VTIMEZONE
TZID:America/New_York
BEGIN:DAYLIGHT
DTSTART:20240310T010000
TZOFFSETFROM:-0500
TZOFFSETTO:-0400
END:DAYLIGHT
BEGIN:STANDARD
DTSTART:20241103T010000
TZOFFSETFROM:-0400
TZOFFSETTO:-0500
END:STANDARD
BEGIN:DAYLIGHT
DTSTART:20250309T010000
TZOFFSETFROM:-0500
TZOFFSETTO:-0400
END:DAYLIGHT
END:VTIMEZONE
BEGIN:VTIMEZONE
TZID:UTC
BEGIN:STANDARD
DTSTART:20250727T180434
TZOFFSETFROM:+0000
TZOFFSETTO:+0000
END:STANDARD
END:VTIMEZONE
BEGIN:VEVENT
UID:69ea5f32d1ff1
DTSTAMP:20260423T180434Z
SUMMARY:\"Best of\" 2024 (55th Annual) Chesapeake Tax Conference
LOCATION: 
URL:https://macpa.org/catalog/events/20688095-best-of-2024-55th-annual-ches
 apeake-tax-conference-2024-04-12
DTSTART;TZID=America/New_York:20241204T120000
DTEND;TZID=America/New_York:20241204T153000
END:VEVENT
END:VCALENDAR