BEGIN:VCALENDAR
VERSION:2.0
PRODID:spatie/icalendar-generator
NAME:Ethics without Fear for Accounting and Finance Professionals
X-WR-CALNAME:Ethics without Fear for Accounting and Finance Professionals
BEGIN:VTIMEZONE
TZID:America/New_York
BEGIN:STANDARD
DTSTART:20241103T010000
TZOFFSETFROM:-0400
TZOFFSETTO:-0500
END:STANDARD
BEGIN:DAYLIGHT
DTSTART:20250309T010000
TZOFFSETFROM:-0500
TZOFFSETTO:-0400
END:DAYLIGHT
END:VTIMEZONE
BEGIN:VTIMEZONE
TZID:UTC
BEGIN:STANDARD
DTSTART:20250728T160700
TZOFFSETFROM:+0000
TZOFFSETTO:+0000
END:STANDARD
END:VTIMEZONE
BEGIN:VEVENT
UID:69eb952499b23
DTSTAMP:20260424T160700Z
SUMMARY:Ethics without Fear for Accounting and Finance Professionals
LOCATION: 
URL:https://macpa.org/catalog/events/20660075-ethics-without-fear-for-accou
 nting-and-finance-professionals-2025-03-04
DTSTART;TZID=America/New_York:20250403T130000
DTEND;TZID=America/New_York:20250403T150000
END:VEVENT
END:VCALENDAR