BEGIN:VCALENDAR
VERSION:2.0
PRODID:spatie/icalendar-generator
NAME:Ethics and Professional Conduct
X-WR-CALNAME:Ethics and Professional Conduct
BEGIN:VTIMEZONE
TZID:America/New_York
BEGIN:STANDARD
DTSTART:20241103T010000
TZOFFSETFROM:-0400
TZOFFSETTO:-0500
END:STANDARD
BEGIN:DAYLIGHT
DTSTART:20250309T010000
TZOFFSETFROM:-0500
TZOFFSETTO:-0400
END:DAYLIGHT
END:VTIMEZONE
BEGIN:VTIMEZONE
TZID:UTC
BEGIN:STANDARD
DTSTART:20250724T115234
TZOFFSETFROM:+0000
TZOFFSETTO:+0000
END:STANDARD
END:VTIMEZONE
BEGIN:VEVENT
UID:69e6138241649
DTSTAMP:20260420T115234Z
SUMMARY:Ethics and Professional Conduct
LOCATION: 
URL:https://macpa.org/catalog/events/20660073-ethics-and-professional-condu
 ct-2025-25-03
DTSTART;TZID=America/New_York:20250325T130000
DTEND;TZID=America/New_York:20250325T150000
END:VEVENT
END:VCALENDAR