BEGIN:VCALENDAR
VERSION:2.0
PRODID:spatie/icalendar-generator
NAME:\"Best of\" 2024 Business and Industry Conference
X-WR-CALNAME:\"Best of\" 2024 Business and Industry Conference
BEGIN:VTIMEZONE
TZID:America/New_York
BEGIN:DAYLIGHT
DTSTART:20240310T010000
TZOFFSETFROM:-0500
TZOFFSETTO:-0400
END:DAYLIGHT
BEGIN:STANDARD
DTSTART:20241103T010000
TZOFFSETFROM:-0400
TZOFFSETTO:-0500
END:STANDARD
BEGIN:DAYLIGHT
DTSTART:20250309T010000
TZOFFSETFROM:-0500
TZOFFSETTO:-0400
END:DAYLIGHT
END:VTIMEZONE
BEGIN:VTIMEZONE
TZID:UTC
BEGIN:STANDARD
DTSTART:20250727T194814
TZOFFSETFROM:+0000
TZOFFSETTO:+0000
END:STANDARD
END:VTIMEZONE
BEGIN:VEVENT
UID:69ea777edcd1f
DTSTAMP:20260423T194814Z
SUMMARY:\"Best of\" 2024 Business and Industry Conference
LOCATION: 
URL:https://macpa.org/catalog/events/20598200-best-of-2024-business-and-ind
 ustry-conference-2024-23-09
DTSTART;TZID=America/New_York:20240923T120000
DTEND;TZID=America/New_York:20240923T161500
END:VEVENT
END:VCALENDAR