BEGIN:VCALENDAR
VERSION:2.0
PRODID:spatie/icalendar-generator
NAME:\"Best of\" - 2024 Accounting Educators Symposium (replay of June 2024
  event Morning Sessions)
X-WR-CALNAME:\"Best of\" - 2024 Accounting Educators Symposium (replay of J
 une 2024 event Morning Sessions)
BEGIN:VTIMEZONE
TZID:America/New_York
BEGIN:DAYLIGHT
DTSTART:20240310T010000
TZOFFSETFROM:-0500
TZOFFSETTO:-0400
END:DAYLIGHT
BEGIN:STANDARD
DTSTART:20241103T010000
TZOFFSETFROM:-0400
TZOFFSETTO:-0500
END:STANDARD
BEGIN:DAYLIGHT
DTSTART:20250309T010000
TZOFFSETFROM:-0500
TZOFFSETTO:-0400
END:DAYLIGHT
END:VTIMEZONE
BEGIN:VTIMEZONE
TZID:UTC
BEGIN:STANDARD
DTSTART:20250727T163149
TZOFFSETFROM:+0000
TZOFFSETTO:+0000
END:STANDARD
END:VTIMEZONE
BEGIN:VEVENT
UID:69ea4975bb2f4
DTSTAMP:20260423T163149Z
SUMMARY:\"Best of\" - 2024 Accounting Educators Symposium (replay of June 2
 024 event Morning Sessions)
LOCATION: 
URL:https://macpa.org/catalog/events/20586742-best-of-2024-accounting-educa
 tors-symposium-replay-of-june-2024-event-morning-sessions-2024-16-09
DTSTART;TZID=America/New_York:20240916T083000
DTEND;TZID=America/New_York:20240916T121000
END:VEVENT
END:VCALENDAR