BEGIN:VCALENDAR
VERSION:2.0
PRODID:spatie/icalendar-generator
NAME:MACPA Beachside Bash
X-WR-CALNAME:MACPA Beachside Bash
BEGIN:VTIMEZONE
TZID:America/New_York
BEGIN:STANDARD
DTSTART:20231105T010000
TZOFFSETFROM:-0400
TZOFFSETTO:-0500
END:STANDARD
BEGIN:DAYLIGHT
DTSTART:20240310T010000
TZOFFSETFROM:-0500
TZOFFSETTO:-0400
END:DAYLIGHT
BEGIN:STANDARD
DTSTART:20241103T010000
TZOFFSETFROM:-0400
TZOFFSETTO:-0500
END:STANDARD
END:VTIMEZONE
BEGIN:VTIMEZONE
TZID:UTC
BEGIN:STANDARD
DTSTART:20250727T162322
TZOFFSETFROM:+0000
TZOFFSETTO:+0000
END:STANDARD
END:VTIMEZONE
BEGIN:VEVENT
UID:69ea477aa70d5
DTSTAMP:20260423T162322Z
SUMMARY:MACPA Beachside Bash
LOCATION:9100 Coastal Hwy\, Ocean City\, Worcester County\, Maryland 21842
URL:https://macpa.org/catalog/events/20305604-macpa-beachside-bash-2024-18-
 06
DTSTART;TZID=America/New_York:20240618T153000
DTEND;TZID=America/New_York:20240618T170000
END:VEVENT
END:VCALENDAR