BEGIN:VCALENDAR
VERSION:2.0
PRODID:spatie/icalendar-generator
NAME:CFO Solutions to IRS Problems
X-WR-CALNAME:CFO Solutions to IRS Problems
BEGIN:VTIMEZONE
TZID:America/New_York
BEGIN:STANDARD
DTSTART:20241103T010000
TZOFFSETFROM:-0400
TZOFFSETTO:-0500
END:STANDARD
BEGIN:DAYLIGHT
DTSTART:20250309T010000
TZOFFSETFROM:-0500
TZOFFSETTO:-0400
END:DAYLIGHT
END:VTIMEZONE
BEGIN:VTIMEZONE
TZID:UTC
BEGIN:STANDARD
DTSTART:20250727T105225
TZOFFSETFROM:+0000
TZOFFSETTO:+0000
END:STANDARD
END:VTIMEZONE
BEGIN:VEVENT
UID:69e9f9e9e912a
DTSTAMP:20260423T105225Z
SUMMARY:CFO Solutions to IRS Problems
LOCATION: 
URL:https://macpa.org/catalog/events/20247373-cfo-solutions-to-irs-problems
 -2025-28-04
DTSTART;TZID=America/New_York:20250428T130000
DTEND;TZID=America/New_York:20250428T170000
END:VEVENT
END:VCALENDAR