BEGIN:VCALENDAR
VERSION:2.0
PRODID:spatie/icalendar-generator
NAME:How Fraud Can Affect Smaller Organizations
X-WR-CALNAME:How Fraud Can Affect Smaller Organizations
BEGIN:VTIMEZONE
TZID:America/New_York
BEGIN:STANDARD
DTSTART:20241103T010000
TZOFFSETFROM:-0400
TZOFFSETTO:-0500
END:STANDARD
BEGIN:DAYLIGHT
DTSTART:20250309T010000
TZOFFSETFROM:-0500
TZOFFSETTO:-0400
END:DAYLIGHT
END:VTIMEZONE
BEGIN:VTIMEZONE
TZID:UTC
BEGIN:STANDARD
DTSTART:20250727T194814
TZOFFSETFROM:+0000
TZOFFSETTO:+0000
END:STANDARD
END:VTIMEZONE
BEGIN:VEVENT
UID:69ea777e8ed63
DTSTAMP:20260423T194814Z
SUMMARY:How Fraud Can Affect Smaller Organizations
LOCATION: 
URL:https://macpa.org/catalog/events/20247328-how-fraud-can-affect-smaller-
 organizations-2025-28-04
DTSTART;TZID=America/New_York:20250428T090000
DTEND;TZID=America/New_York:20250428T130000
END:VEVENT
END:VCALENDAR