BEGIN:VCALENDAR
VERSION:2.0
PRODID:spatie/icalendar-generator
NAME:Tax Depreciation: Review and Update
X-WR-CALNAME:Tax Depreciation: Review and Update
BEGIN:VTIMEZONE
TZID:America/New_York
BEGIN:STANDARD
DTSTART:20241103T010000
TZOFFSETFROM:-0400
TZOFFSETTO:-0500
END:STANDARD
BEGIN:DAYLIGHT
DTSTART:20250309T010000
TZOFFSETFROM:-0500
TZOFFSETTO:-0400
END:DAYLIGHT
END:VTIMEZONE
BEGIN:VTIMEZONE
TZID:UTC
BEGIN:STANDARD
DTSTART:20250730T014253
TZOFFSETFROM:+0000
TZOFFSETTO:+0000
END:STANDARD
END:VTIMEZONE
BEGIN:VEVENT
UID:69ed6d9df194f
DTSTAMP:20260426T014253Z
SUMMARY:Tax Depreciation: Review and Update
LOCATION: 
URL:https://macpa.org/catalog/events/20247293-tax-depreciation-review-and-u
 pdate-2025-25-04
DTSTART;TZID=America/New_York:20250425T143000
DTEND;TZID=America/New_York:20250425T163000
END:VEVENT
END:VCALENDAR