BEGIN:VCALENDAR
VERSION:2.0
PRODID:spatie/icalendar-generator
NAME:Audit 408: Coaching Staff to Stay on the Right Track
X-WR-CALNAME:Audit 408: Coaching Staff to Stay on the Right Track
BEGIN:VTIMEZONE
TZID:America/New_York
BEGIN:STANDARD
DTSTART:20241103T010000
TZOFFSETFROM:-0400
TZOFFSETTO:-0500
END:STANDARD
BEGIN:DAYLIGHT
DTSTART:20250309T010000
TZOFFSETFROM:-0500
TZOFFSETTO:-0400
END:DAYLIGHT
END:VTIMEZONE
BEGIN:VTIMEZONE
TZID:UTC
BEGIN:STANDARD
DTSTART:20250726T065302
TZOFFSETFROM:+0000
TZOFFSETTO:+0000
END:STANDARD
END:VTIMEZONE
BEGIN:VEVENT
UID:69e8704e2824b
DTSTAMP:20260422T065302Z
SUMMARY:Audit 408: Coaching Staff to Stay on the Right Track
LOCATION: 
URL:https://macpa.org/catalog/events/20247283-audit-408-coaching-staff-to-s
 tay-on-the-right-track-2025-25-04
DTSTART;TZID=America/New_York:20250425T133000
DTEND;TZID=America/New_York:20250425T153000
END:VEVENT
END:VCALENDAR