BEGIN:VCALENDAR
VERSION:2.0
PRODID:spatie/icalendar-generator
NAME:Understanding and Creating an Internal Control System
X-WR-CALNAME:Understanding and Creating an Internal Control System
BEGIN:VTIMEZONE
TZID:America/New_York
BEGIN:STANDARD
DTSTART:20241103T010000
TZOFFSETFROM:-0400
TZOFFSETTO:-0500
END:STANDARD
BEGIN:DAYLIGHT
DTSTART:20250309T010000
TZOFFSETFROM:-0500
TZOFFSETTO:-0400
END:DAYLIGHT
END:VTIMEZONE
BEGIN:VTIMEZONE
TZID:UTC
BEGIN:STANDARD
DTSTART:20250728T170751
TZOFFSETFROM:+0000
TZOFFSETTO:+0000
END:STANDARD
END:VTIMEZONE
BEGIN:VEVENT
UID:69eba3671698f
DTSTAMP:20260424T170751Z
SUMMARY:Understanding and Creating an Internal Control System
LOCATION: 
URL:https://macpa.org/catalog/events/20247193-understanding-and-creating-an
 -internal-control-system-2025-24-04
DTSTART;TZID=America/New_York:20250424T090000
DTEND;TZID=America/New_York:20250424T170000
END:VEVENT
END:VCALENDAR