BEGIN:VCALENDAR
VERSION:2.0
PRODID:spatie/icalendar-generator
NAME:Excel - Advanced Formatting to Improve Your Spreadsheets
X-WR-CALNAME:Excel - Advanced Formatting to Improve Your Spreadsheets
BEGIN:VTIMEZONE
TZID:America/New_York
BEGIN:STANDARD
DTSTART:20241103T010000
TZOFFSETFROM:-0400
TZOFFSETTO:-0500
END:STANDARD
BEGIN:DAYLIGHT
DTSTART:20250309T010000
TZOFFSETFROM:-0500
TZOFFSETTO:-0400
END:DAYLIGHT
END:VTIMEZONE
BEGIN:VTIMEZONE
TZID:UTC
BEGIN:STANDARD
DTSTART:20250727T195429
TZOFFSETFROM:+0000
TZOFFSETTO:+0000
END:STANDARD
END:VTIMEZONE
BEGIN:VEVENT
UID:69ea78f558065
DTSTAMP:20260423T195429Z
SUMMARY:Excel - Advanced Formatting to Improve Your Spreadsheets
LOCATION: 
URL:https://macpa.org/catalog/events/20247154-excel-advanced-formatting-to-
 improve-your-spreadsheets-2025-23-04
DTSTART;TZID=America/New_York:20250423T103000
DTEND;TZID=America/New_York:20250423T123000
END:VEVENT
END:VCALENDAR