BEGIN:VCALENDAR
VERSION:2.0
PRODID:spatie/icalendar-generator
NAME:What's New in Excel
X-WR-CALNAME:What's New in Excel
BEGIN:VTIMEZONE
TZID:America/New_York
BEGIN:STANDARD
DTSTART:20241103T010000
TZOFFSETFROM:-0400
TZOFFSETTO:-0500
END:STANDARD
BEGIN:DAYLIGHT
DTSTART:20250309T010000
TZOFFSETFROM:-0500
TZOFFSETTO:-0400
END:DAYLIGHT
END:VTIMEZONE
BEGIN:VTIMEZONE
TZID:UTC
BEGIN:STANDARD
DTSTART:20250723T122402
TZOFFSETFROM:+0000
TZOFFSETTO:+0000
END:STANDARD
END:VTIMEZONE
BEGIN:VEVENT
UID:69e4c962228a5
DTSTAMP:20260419T122402Z
SUMMARY:What's New in Excel
LOCATION: 
URL:https://macpa.org/catalog/events/20247127-whats-new-in-excel-2025-22-04
DTSTART;TZID=America/New_York:20250422T143000
DTEND;TZID=America/New_York:20250422T163000
END:VEVENT
END:VCALENDAR