BEGIN:VCALENDAR
VERSION:2.0
PRODID:spatie/icalendar-generator
NAME:Best Non-Google Search Tools for Accountants
X-WR-CALNAME:Best Non-Google Search Tools for Accountants
BEGIN:VTIMEZONE
TZID:America/New_York
BEGIN:STANDARD
DTSTART:20241103T010000
TZOFFSETFROM:-0400
TZOFFSETTO:-0500
END:STANDARD
BEGIN:DAYLIGHT
DTSTART:20250309T010000
TZOFFSETFROM:-0500
TZOFFSETTO:-0400
END:DAYLIGHT
END:VTIMEZONE
BEGIN:VTIMEZONE
TZID:UTC
BEGIN:STANDARD
DTSTART:20250729T165001
TZOFFSETFROM:+0000
TZOFFSETTO:+0000
END:STANDARD
END:VTIMEZONE
BEGIN:VEVENT
UID:69ecf0b9f1a90
DTSTAMP:20260425T165001Z
SUMMARY:Best Non-Google Search Tools for Accountants
LOCATION: 
URL:https://macpa.org/catalog/events/20246786-best-non-google-search-tools-
 for-accountants-2025-15-04
DTSTART;TZID=America/New_York:20250415T123000
DTEND;TZID=America/New_York:20250415T143000
END:VEVENT
END:VCALENDAR