BEGIN:VCALENDAR
VERSION:2.0
PRODID:spatie/icalendar-generator
NAME:Presentation Skills for Auditors
X-WR-CALNAME:Presentation Skills for Auditors
BEGIN:VTIMEZONE
TZID:America/New_York
BEGIN:STANDARD
DTSTART:20241103T010000
TZOFFSETFROM:-0400
TZOFFSETTO:-0500
END:STANDARD
BEGIN:DAYLIGHT
DTSTART:20250309T010000
TZOFFSETFROM:-0500
TZOFFSETTO:-0400
END:DAYLIGHT
END:VTIMEZONE
BEGIN:VTIMEZONE
TZID:UTC
BEGIN:STANDARD
DTSTART:20250727T013727
TZOFFSETFROM:+0000
TZOFFSETTO:+0000
END:STANDARD
END:VTIMEZONE
BEGIN:VEVENT
UID:69e977d7a1a61
DTSTAMP:20260423T013727Z
SUMMARY:Presentation Skills for Auditors
LOCATION: 
URL:https://macpa.org/catalog/events/20246697-presentation-skills-for-audit
 ors-2025-14-04
DTSTART;TZID=America/New_York:20250414T130000
DTEND;TZID=America/New_York:20250414T150000
END:VEVENT
END:VCALENDAR