BEGIN:VCALENDAR
VERSION:2.0
PRODID:spatie/icalendar-generator
NAME:Introduction to the Property & Casualty Insurance Industry
X-WR-CALNAME:Introduction to the Property & Casualty Insurance Industry
BEGIN:VTIMEZONE
TZID:America/New_York
BEGIN:STANDARD
DTSTART:20241103T010000
TZOFFSETFROM:-0400
TZOFFSETTO:-0500
END:STANDARD
BEGIN:DAYLIGHT
DTSTART:20250309T010000
TZOFFSETFROM:-0500
TZOFFSETTO:-0400
END:DAYLIGHT
END:VTIMEZONE
BEGIN:VTIMEZONE
TZID:UTC
BEGIN:STANDARD
DTSTART:20250725T121713
TZOFFSETFROM:+0000
TZOFFSETTO:+0000
END:STANDARD
END:VTIMEZONE
BEGIN:VEVENT
UID:69e76ac9ebbb9
DTSTAMP:20260421T121713Z
SUMMARY:Introduction to the Property & Casualty Insurance Industry
LOCATION: 
URL:https://macpa.org/catalog/events/20246658-introduction-to-the-property-
 casualty-insurance-industry-2025-11-04
DTSTART;TZID=America/New_York:20250411T170000
DTEND;TZID=America/New_York:20250411T180000
END:VEVENT
END:VCALENDAR