BEGIN:VCALENDAR
VERSION:2.0
PRODID:spatie/icalendar-generator
NAME:GAAP Alternatives: The Perfect Storm of Accounting Updates
X-WR-CALNAME:GAAP Alternatives: The Perfect Storm of Accounting Updates
BEGIN:VTIMEZONE
TZID:America/New_York
BEGIN:STANDARD
DTSTART:20241103T010000
TZOFFSETFROM:-0400
TZOFFSETTO:-0500
END:STANDARD
BEGIN:DAYLIGHT
DTSTART:20250309T010000
TZOFFSETFROM:-0500
TZOFFSETTO:-0400
END:DAYLIGHT
END:VTIMEZONE
BEGIN:VTIMEZONE
TZID:UTC
BEGIN:STANDARD
DTSTART:20250723T222345
TZOFFSETFROM:+0000
TZOFFSETTO:+0000
END:STANDARD
END:VTIMEZONE
BEGIN:VEVENT
UID:69e555f12a1a7
DTSTAMP:20260419T222345Z
SUMMARY:GAAP Alternatives: The Perfect Storm of Accounting Updates
LOCATION: 
URL:https://macpa.org/catalog/events/20246388-gaap-alternatives-the-perfect
 -storm-of-accounting-updates-2025-07-04
DTSTART;TZID=America/New_York:20250407T170000
DTEND;TZID=America/New_York:20250407T180000
END:VEVENT
END:VCALENDAR