BEGIN:VCALENDAR
VERSION:2.0
PRODID:spatie/icalendar-generator
NAME:Activity-Based Costing: Is it Right for Your Organization?
X-WR-CALNAME:Activity-Based Costing: Is it Right for Your Organization?
BEGIN:VTIMEZONE
TZID:America/New_York
BEGIN:STANDARD
DTSTART:20241103T010000
TZOFFSETFROM:-0400
TZOFFSETTO:-0500
END:STANDARD
BEGIN:DAYLIGHT
DTSTART:20250309T010000
TZOFFSETFROM:-0500
TZOFFSETTO:-0400
END:DAYLIGHT
END:VTIMEZONE
BEGIN:VTIMEZONE
TZID:UTC
BEGIN:STANDARD
DTSTART:20250727T183617
TZOFFSETFROM:+0000
TZOFFSETTO:+0000
END:STANDARD
END:VTIMEZONE
BEGIN:VEVENT
UID:69ea66a16249f
DTSTAMP:20260423T183617Z
SUMMARY:Activity-Based Costing: Is it Right for Your Organization?
LOCATION: 
URL:https://macpa.org/catalog/events/20246313-activity-based-costing-is-it-
 right-for-your-organization-2025-07-04
DTSTART;TZID=America/New_York:20250407T100000
DTEND;TZID=America/New_York:20250407T120000
END:VEVENT
END:VCALENDAR