BEGIN:VCALENDAR
VERSION:2.0
PRODID:spatie/icalendar-generator
NAME:You Don't Know What You Don't Know About Microsoft Excel
X-WR-CALNAME:You Don't Know What You Don't Know About Microsoft Excel
BEGIN:VTIMEZONE
TZID:America/New_York
BEGIN:STANDARD
DTSTART:20241103T010000
TZOFFSETFROM:-0400
TZOFFSETTO:-0500
END:STANDARD
BEGIN:DAYLIGHT
DTSTART:20250309T010000
TZOFFSETFROM:-0500
TZOFFSETTO:-0400
END:DAYLIGHT
END:VTIMEZONE
BEGIN:VTIMEZONE
TZID:UTC
BEGIN:STANDARD
DTSTART:20250724T144413
TZOFFSETFROM:+0000
TZOFFSETTO:+0000
END:STANDARD
END:VTIMEZONE
BEGIN:VEVENT
UID:69e63bbd58e6c
DTSTAMP:20260420T144413Z
SUMMARY:You Don't Know What You Don't Know About Microsoft Excel
LOCATION: 
URL:https://macpa.org/catalog/events/20246181-you-dont-know-what-you-dont-k
 now-about-microsoft-excel-2025-03-04
DTSTART;TZID=America/New_York:20250403T090000
DTEND;TZID=America/New_York:20250403T170000
END:VEVENT
END:VCALENDAR