BEGIN:VCALENDAR
VERSION:2.0
PRODID:spatie/icalendar-generator
NAME:Ethics Based Leadership for Women
X-WR-CALNAME:Ethics Based Leadership for Women
BEGIN:VTIMEZONE
TZID:America/New_York
BEGIN:STANDARD
DTSTART:20241103T010000
TZOFFSETFROM:-0400
TZOFFSETTO:-0500
END:STANDARD
BEGIN:DAYLIGHT
DTSTART:20250309T010000
TZOFFSETFROM:-0500
TZOFFSETTO:-0400
END:DAYLIGHT
END:VTIMEZONE
BEGIN:VTIMEZONE
TZID:UTC
BEGIN:STANDARD
DTSTART:20250725T113224
TZOFFSETFROM:+0000
TZOFFSETTO:+0000
END:STANDARD
END:VTIMEZONE
BEGIN:VEVENT
UID:69e760488c5d5
DTSTAMP:20260421T113224Z
SUMMARY:Ethics Based Leadership for Women
LOCATION: 
URL:https://macpa.org/catalog/events/20246136-ethics-based-leadership-for-w
 omen-2025-02-04
DTSTART;TZID=America/New_York:20250402T093000
DTEND;TZID=America/New_York:20250402T113000
END:VEVENT
END:VCALENDAR