BEGIN:VCALENDAR
VERSION:2.0
PRODID:spatie/icalendar-generator
NAME:CFO Career Upgrade with LinkedIn
X-WR-CALNAME:CFO Career Upgrade with LinkedIn
BEGIN:VTIMEZONE
TZID:America/New_York
BEGIN:STANDARD
DTSTART:20241103T010000
TZOFFSETFROM:-0400
TZOFFSETTO:-0500
END:STANDARD
BEGIN:DAYLIGHT
DTSTART:20250309T010000
TZOFFSETFROM:-0500
TZOFFSETTO:-0400
END:DAYLIGHT
END:VTIMEZONE
BEGIN:VTIMEZONE
TZID:UTC
BEGIN:STANDARD
DTSTART:20250727T110037
TZOFFSETFROM:+0000
TZOFFSETTO:+0000
END:STANDARD
END:VTIMEZONE
BEGIN:VEVENT
UID:69e9fbd5c89f9
DTSTAMP:20260423T110037Z
SUMMARY:CFO Career Upgrade with LinkedIn
LOCATION: 
URL:https://macpa.org/catalog/events/20246081-cfo-career-upgrade-with-linke
 din-2025-01-04
DTSTART;TZID=America/New_York:20250401T120000
DTEND;TZID=America/New_York:20250401T140000
END:VEVENT
END:VCALENDAR