BEGIN:VCALENDAR
VERSION:2.0
PRODID:spatie/icalendar-generator
NAME:Electronic Audit Evidence in Employee Benefit Plans
X-WR-CALNAME:Electronic Audit Evidence in Employee Benefit Plans
BEGIN:VTIMEZONE
TZID:America/New_York
BEGIN:STANDARD
DTSTART:20241103T010000
TZOFFSETFROM:-0400
TZOFFSETTO:-0500
END:STANDARD
BEGIN:DAYLIGHT
DTSTART:20250309T010000
TZOFFSETFROM:-0500
TZOFFSETTO:-0400
END:DAYLIGHT
END:VTIMEZONE
BEGIN:VTIMEZONE
TZID:UTC
BEGIN:STANDARD
DTSTART:20250727T022645
TZOFFSETFROM:+0000
TZOFFSETTO:+0000
END:STANDARD
END:VTIMEZONE
BEGIN:VEVENT
UID:69e98365c74ef
DTSTAMP:20260423T022645Z
SUMMARY:Electronic Audit Evidence in Employee Benefit Plans
LOCATION: 
URL:https://macpa.org/catalog/events/20246023-electronic-audit-evidence-in-
 employee-benefit-plans-2025-31-03
DTSTART;TZID=America/New_York:20250331T140000
DTEND;TZID=America/New_York:20250331T160000
END:VEVENT
END:VCALENDAR